Workbook

Sheet Information
A1: Kære læser Du sidder nu med fordelingsnøglen for volleyball til fordeling af volleyball-tider i regi af Frederiksbergs Idræts Union (FIU). Her kan du finde information om, hvordan fordelingen af haltider foregår, størrelsen på de forskellige haller, de forskellige baner der spilles volleyball på, en rækkeoversigt, samt en oversigt over de forskellige klubbers hold. Er du redaktør, og redigerer i nøglen, bedes du udfylde en ny linje under fanen "Redaktør", så det er muligt 1) at følge med i tidspunkt for opdateringer, 2) at finde kontaktinformation på tidligere redaktører, og 3) at danne sig et kort overblik over, hvad der er ændret. Du kan også finde kontaktinformation på de forskellige repræsentanter i Volleyball-udvalget i dette dokument. I de forskellige faneblade finder du informationerne.

Sheet Redigering
A1: Dato for redigering | B1: Redaktør | C1: E-mail | D1: Bemærkning om ændring
A2: 9. august 2019 | B2: Jim Vad Sørensen | C2: vg_2009zjvs@live.dk | D2: Udarbejdelse af ny og mere detaljeret fordelingsnøgle som erstatning for den tidligere. Timebehovet for de enkelte hold er justeret op.

Sheet Medlemmer i VU
A1: Formand
A2: Navn: | B2: Jim Vad Sørensen
A3: Tlf: | B3: 26 22 51 29
A4: E-mail: | B4: vg_2009zjvs@live.dk
A6: CBS Sport Volley
A7: Navn: | B7: Thorbjørn
A8: Tlf:
A9: E-mail: | B9: volleyball@cbssport.dk
A11: Frederiksberg Volley
A12: Navn: | B12: Julie Dahlgaard
A13: Tlf: | B13: 60 83 50 50
A14: E-mail 1: | B14: formand@frederiksbergvolley.dk
A15: E-mail 2: | B15: dahlgaardjulie@gmail.com
A17: ODK
A18: Navn: | B18: Viggo Brøndegaard
A19: Tlf:
A20: E-mail 1: | B20: v.b.n@mail.tele.dk
A21: E-mail 2: | B21: viggo@odk.dk
A23: Sportskollektivet
A24: Navn: | B24: Lars Vincent Pedersen
A25: Tlf:
A26: E-mail 1: | B26: hallo@sportskollektivet.dk
A27: E-mail 2: | B27: lvp@sportskollektivet.dk
A29: VLI Volley
A30: Navn: | B30: Mie Nonbo Holck
A31: Tlf: | B31: 25 36 38 20
A32: E-mail: | B32: mieholck@gmail.com
A34: Idrætsudvalgs-repræsentant
A35: Navn: | B35: LASSE BRANDT
A36: Tlf: | B36: 20952874
A37: E-mail 1: | B37: las_b4@hotmail.com
A38: E-mail 2:

Sheet Baner
A1: Det er vigtigt at kende til de forskellige definitioner for volleyball-baner. De fleste kender til volleyball fra standard-banen, der måler 9 m · 18 m, men med indtoget af de populære børne- og ungdomsspil Kids- og Teenvolley anvendes også badmintonbaner til volleyball. Herunder er en gennemgang af de forskellige volleyball-baner, der er relevante for fordelingsnøglen.
A3: • TVÆRBANE (9 m · 18 m) ○ På tegningen herunder er banerne markeret med GRØN eksempler på tværbaner. ○ Når der fordeles tider med fordelingsnøglen regner man i tværbanetimer. ○ For lille afstand mellem tværbaner, for lille afstand til vægge, eller manglende mulighed for opsætning af skillenet mellem baner kan gøre afvikling af træning på tværbaner vanskelig. ○ Tværbaner ligger på tværs af hallen, og der er oftest to eller tre (nogle gange fire) tværbaner, afhængig af hallens størrelse. ○ En tværbane benyttes ofte i træningssammenhæng, da det giver mulighed for, at flere forskellige hold kan træne ved siden af hinanden i det samme tidsrum. ○ For de lavest rangerede turnerings-rækker er det tilladt, at kampe afvikles på tværbane, men grundet et mindre areal rundt om banen (den såkaldte frizone), foretrækkes det generelt, at kampe ikke afvikles på tværbane.
A5: • LANGBANE (9 m · 18 m) ○ På tegningen herunder er banerne markeret med RØD et eksempel på en langbane. ○ Langbaner ligger på langs af hallen, og der er i nærmest alle tilfælde kun én langbane i en hal. ○ En langbane benyttes som den foretrukne bane til afvikling af kampe. For nogle af rækkerne er dette et krav. ○ Grundet høj rangering, har nogle hold ret til, at nogle af træningerne foregår på langbane. I tilfælde af dette, beslaglægges flere/alle tværbaner i hallen. ○ I små haller findes der kun én volleyballbane på langs. Dette er i teorien en langbane, men oftest er arealet omkring banen (frizonen) samt højden til loftet oftest ikke store nok til at kunne opfylde kravene til at blive defineret som en langbane, og dermed være mulige at afvikle kampe på.
A7: • KIDSVOLLEY-BANE - bruges også til Teenvolley (6,1 m · 13,4 m - badmintonbane) ○ På tegningen herunder er banerne markeret med BLÅ eksempler på Kidsvolley-baner. ○ I fordelingsnøglen tildeles hele haller til Kidsvolley, frem for at fordele per hold. Det skyldes at der 1) oftest er mange spillere, og 2) at der sjældent trænes på faste hold. ○ Badmintonbaner ligger aldrig på langs i hallerne (med mindre hallen er meget lille), og Kidsvolley-kampe afvikles altid ved stævner, hvor mange hold spiller mange kampe i en hal med så mange opsatte Kidsvolley-baner som muligt.
A9: Herunder: Eksempel på en hal med én langbane (rød), to tværbaner (grøn) og tre Kidsvolley-baner (blå). Dette svarer fx til Kedelhallen.

Sheet Rækker
A1: For volleyballklubber på Fredriksberg varetages administrationen af turnering af enten:
A2: ○ Volleyball Danmark (VD)
A3: http://volleyball.dk/
A4: ○ Sjællands Vollyball Kreds (SVBK)
A5: http://svbk.dk/
A7: Alle resultater indberettes i det samme system. Her kan man også finde turneringsplaner.
A8: https://resultater.volleyball.dk/tms/Turneringer-og-resultater/Soegning.aspx
A10: Herunder ses en oversigt over de forskellige rækker, hvem der administrerer dem, samt eventuelle bemærkninger.
A12: Seniorrækkerne er målrettet voksne volleyballspillere på alle niveauer. Spilles på almindelig volleyballbane.
A13: --- SENIOR --- SENIOR --- SENIOR --- SENIOR --- SENIOR --- SENIOR --- SENIOR --- SENIOR --- SENIOR --- SENIOR --- SENIOR --- SENIOR --- SENIOR --- SENIOR --- SENIOR --- SENIOR --- SENIOR --- SENIOR ---
A14: Række | B14: Holdtype | C14: Administreres af: | D14: Kampafvikling | E14: Bemærkning
A15: Liga | B15: Herrer, Damer | C15: Volleyball Danmark | D15: Turnering, en kamp pr. runde | E15: Bülowsvejhallen er den eneste hal på Frederiksberg, der opfylder kravene til afvikling af kampe i Ligaen.
A16: 1. division | E16: Kedelhallen og tilsvarende eller større haller er godkendt til kampe
A17: 2. division
A18: Danmarksserie | B18: Herrer, Damer | C18: SVBK | D18: Turnering, en kamp pr. runde | E18: Kampe kan ved nød afvikles på tværbane
A19: Serie 1 | E19: Kampe kan afvikles på tværbane
A20: Serie 2
A21: Mix 1 | B21: Mix | D21: Trekantsstævner, tre kampe pr. stævne
A22: Mix 2
A24: Ungdomsrækkerne spilles som almindelig volleyball på en almindelig volleyballbane. Identisk med senior-volleyball.
A25: --- UNGDOM --- UNGDOM --- UNGDOM --- UNGDOM --- UNGDOM --- UNGDOM --- UNGDOM --- UNGDOM --- UNGDOM --- UNGDOM --- UNGDOM --- UNGDOM --- UNGDOM --- UNGDOM ---
A26: Række | B26: Alder | C26: Administreres af: | D26: Antal spillere og banestørrelse | E26: Bemærkning
A27: U21 | B27: 18 år til 20 år | C27: Volleyball Danmark | D27: 6 spillere på almindelig bane | E27: Landsdækkende Grand Prix turnering. Afvikles som stævner med mange baner og kampe i samme hal.
A28: U18 | B28: 16 år til 17 år | C28: SVBK | E28: Grand Prix og DM kval-turnering. Afvikles som stævner med mange baner og kampe i samme hal.
A29: U16 | B29: 14 år til 15 år
A30: U14 | B30: 12 år til 13 år
A32: Teenvolley er målrettet ungdoms-spillere, der er for gamle til at spille Kidsvolley, men som enten 1) er nybegyndere eller 2) ikke har mulighed for at danne et 6-personers-hold i foreningen.
A33: --- TEEN --- TEEN --- TEEN --- TEEN --- TEEN --- TEEN --- TEEN --- TEEN --- TEEN --- TEEN --- TEEN --- TEEN --- TEEN --- TEEN --- TEEN --- TEEN --- TEEN --- TEEN --- TEEN --- TEEN --- TEEN --- TEEN --- TEEN ---
A34: Række | B34: Alder | C34: Administreres af: | D34: Antal spillere og banestørrelse | E34: Bemærkning
A35: Teen 1 | B35: 12 år til 17 år | C35: SVBK | D35: 2-3 spillere på badmintonbane | E35: Målrettet nybegyndere. Afvikles som stævner med mange baner og kampe i samme hal.
A36: Teen 2 | E36: Målrettet øvede. Afvikles som stævner med mange baner og kampe i samme hal.
A38: Kidsvolley er målrettet børn i alderen 6-11 år, hvor de forskellige levels har forskellige regler, der er tilpasset motoriske færdigheder på de enkelte alderstrin.
A39: --- KIDS --- KIDS --- KIDS --- KIDS --- KIDS --- KIDS --- KIDS --- KIDS --- KIDS --- KIDS --- KIDS --- KIDS --- KIDS --- KIDS --- KIDS --- KIDS --- KIDS --- KIDS --- KIDS --- KIDS --- KIDS --- KIDS --- KIDS --- KIDS --- KIDS ---
A40: Række | B40: Alder | C40: Administreres af: | D40: Antal spillere og banestørrelse | E40: Bemærkning
A41: Level 0 | B41: 1. klasse eller yngre | C41: SVBK | D41: 4 spillere på badmintonbane | E41: Afvikles som stævner med mange baner og kampe i samme hal.
A42: Level 1 | B42: 2. klasse eller yngre
A43: Level 2 | B43: 3. klasse eller yngre
A44: Level 3 | B44: 4. klasse eller yngre
A45: Level 4 | B45: 5. klasse eller yngre

Sheet Haller
A1: På Frederiksberg spilles der volleyball i flere forskellige haller.
A3: Herunder ses en oversigt over de forskellige hallers størrelse og antal baner.
A5: Bemærk at i små haller, hvor der kun er én bane på langs, tælles dette som en tværbane i fordelingsnøglen.
A6: Bemærk at antal tværbaner er standarden i fordelingsnøglen, og en eventuelt langbanetid også regnes i tværbanetimer.
A7: Hal | B7: Langbane? | C7: Antal tværbaner | D7: Antal badmintonbaner | E7: Bemærkning
A8: Bülowsvejhallen - Store hal | B8: X | C8: 3 | D8: 6 | E8: Eneste hal på Frederiksberg, der er godkendt til Liga-kampe, grundet den indfarvede bane.
A9: Falkonergården - Idrætshallen | C9: 1 | D9: 4 | E9: Ville være godkendt til kampe i 1. division og 2. division, men bruges ikke hertil.
A10: Frederiksberg Gymnasium | B10: X | C10: 2 | D10: 4 | E10: I princippet er der 3 tværbaner, men grundet manglende mulighed for adskillelse af banerne med net, samt meget lille afstand, både til væg og næste bane, regnes der kun med to tværbaner i nøglen.
A11: Hermeshallen - Hal 3 - Bagerste hal | C11: 1 | D11: 3
A12: Kedelhallen - Store Hal | B12: X | C12: 2 | D12: 3 | E12: Godkendt til kampe i 1. division og 2. division.
A13: Skolen ved Nordens Plads - Hallen | C13: 1 | D13: 3

Sheet Klubber
A1: I Volleyballudvalget i FIU-regi er fem klubber repræsenteret. Nedenfor ses en oversigt over de forskellige hold, som klubberne har.
A3: Række | B3: CBS Sport Volley | C3: Frederiksberg Volley | D3: ODK | E3: Sportskollektivet | F3: VLI Volley | H3: CBS Sport Volley | I3: Frederiksberg Volley | J3: ODK | K3: Sportskollektivet | L3: VLI Volley | N3: CBS Sport Volley | O3: Frederiksberg Volley | P3: ODK | Q3: Sportskollektivet | R3: VLI Volley
A4: SENIOR
A5: Liga | G5: =Fordelingsnøgle!D12 -> 12 | H5: =$G5*B5 -> 0 | I5: =$G5*C5 -> 0 | J5: =$G5*D5 -> 0 | K5: =$G5*E5 -> 0 | L5: =$G5*F5 -> 0 | M5: Senior | N5: =SUM(H5:H9) -> 0 | O5: =SUM(I5:I9) -> 0 | P5: =SUM(J5:J9) -> 0 | Q5: =SUM(K5:K9) -> 0 | R5: =SUM(L5:L9) -> 0
A6: 1-2. div | G6: =Fordelingsnøgle!D13 -> 8 | H6: =$G6*B6 -> 0 | I6: =$G6*C6 -> 0 | J6: =$G6*D6 -> 0 | K6: =$G6*E6 -> 0 | L6: =$G6*F6 -> 0 | M6: Ungdom | N6: =SUM(H11:H17) -> 0 | O6: =SUM(I11:I14) -> 0 | P6: =SUM(J11:J14) -> 0 | Q6: =SUM(K11:K14) -> 0 | R6: =SUM(L11:L14) -> 0
A7: Danmarksserie+ Serio 1, 2 og 3 | G7: =Fordelingsnøgle!D14 -> 4 | H7: =$G7*B7 -> 0 | I7: =$G7*C7 -> 0 | J7: =$G7*D7 -> 0 | K7: =$G7*E7 -> 0 | L7: =$G7*F7 -> 0
A8: Øverige rækker | G8: =Fordelingsnøgle!D15 -> 3 | H8: =$G8*B8 -> 0 | I8: =$G8*C8 -> 0 | J8: =$G8*D8 -> 0 | K8: =$G8*E8 -> 0 | L8: =$G8*F8 -> 0
A9: Ikke turneringsaktive hold | G9: =Fordelingsnøgle!D16 -> 2 | H9: =$G9*B9 -> 0 | I9: =$G9*C9 -> 0 | J9: =$G9*D9 -> 0 | K9: =$G9*E9 -> 0 | L9: =$G9*F9 -> 0
A10: UNGDOM
A11: U15/U17 bedste række | G11: =Fordelingsnøgle!D24 -> 6 | H11: =$G11*B11 -> 0 | I11: =$G11*C11 -> 0 | J11: =$G11*D11 -> 0 | K11: =$G11*E11 -> 0 | L11: =$G11*F11 -> 0
A12: U15/U17 øvrge + U19/U20 | G12: =Fordelingsnøgle!D25 -> 4 | H12: =$G12*B12 -> 0 | I12: =$G12*C12 -> 0 | J12: =$G12*D12 -> 0 | K12: =$G12*E12 -> 0 | L12: =$G12*F12 -> 0
A13: U11/U13, bedste række | G13: =Fordelingsnøgle!D26 -> 4.5 | H13: =$G13*B13 -> 0 | I13: =$G13*C13 -> 0 | J13: =$G13*D13 -> 0 | K13: =$G13*E13 -> 0 | L13: =$G13*F13 -> 0
A14: U11/U13, øvrige | G14: =Fordelingsnøgle!D27 -> 3 | H14: =$G14*B14 -> 0 | I14: =$G14*C14 -> 0 | J14: =$G14*D14 -> 0 | K14: =$G14*E14 -> 0 | L14: =$G14*F14 -> 0
A15: U9 alle rækker | G15: =Fordelingsnøgle!D28 -> 3 | H15: =$G15*B15 -> 0 | I15: =$G15*C15 -> 0 | J15: =$G15*D15 -> 0 | K15: =$G15*E15 -> 0 | L15: =$G15*F15 -> 0
A16: Ikke turneringsaktive hold (6 år og ældre) | G16: =Fordelingsnøgle!D29 -> 2 | H16: =$G16*B16 -> 0 | I16: =$G16*C16 -> 0 | J16: =$G16*D16 -> 0 | K16: =$G16*E16 -> 0 | L16: =$G16*F16 -> 0
A17: 0-5 års hold | G17: =Fordelingsnøgle!D30 -> 1 | H17: =$G17*B17 -> 0 | I17: =$G17*C17 -> 0 | J17: =$G17*D17 -> 0 | K17: =$G17*E17 -> 0 | L17: =$G17*F17 -> 0

Sheet Fordelingsnøgle
A1: Fordelingsnøglen bruges til at udregne behovet for ugentlig træningstid hver uge
A3: SENIORHOLD:
A4: Bemærk at Fordelingsnøglen udregner antal tværbanetimer. Langbanetid er således også i tværbanetimer.
A5: Bemærk at langbanetid for liga-hold tager udgangspunkt i Bülowsvejhallen (3 tværbaner beslaglægges).
A6: Bemærk at langbanetid for 1. og 2. divisions-hold tager udgangspunkt i Kedelhallen (2 tværbaner beslaglægges).
A8: Langbanetid Bülowsvejhallen svarer til: | B8: 3 | C8: tværbanetimer
A9: Langbanetid Kedelhallen svarer til: | B9: 2 | C9: tværbanetimer
A11: Række | B11: Timer om ugen | C11: Timer på langbane | D11: Totalt behov
A12: Liga | B12: 8 | C12: 4 | D12: =B12+C12 -> 12
A13: 1-2. div | B13: 6 | C13: 2 | D13: =B13+C13 -> 8
A14: Danmarksserie+ Serio 1, 2 og 3 | B14: 4 | C14: 0 | D14: =B14+C14 -> 4
A15: Øverige rækker | B15: 3 | C15: 0 | D15: =B15+C15 -> 3
A16: Ikke turneringsaktive hold | B16: 2 | C16: 0 | D16: =B16+C16 -> 2
A19: UNGDOMS-, TEEN- og KIDSVOLLEYHOLD:
A21: Hel hal pr. time i Kedelhallen svarer til: | B21: 2 | C21: tværbanetimer
A23: Række | B23: Timer om ugen | C23: Timer på langbane | D23: Totalt behov
A24: U15/U17 bedste række | B24: 6 | C24: 0 | D24: =B24+C24 -> 6
A25: U15/U17 øvrge + U19/U20 | B25: 4 | C25: 0 | D25: =B25+C25 -> 4
A26: U11/U13, bedste række | B26: 4.5 | C26: 0 | D26: =B26+C26 -> 4.5
A27: U11/U13, øvrige | B27: 3 | C27: 0 | D27: =B27+C27 -> 3
A28: U9 alle rækker | B28: 3 | C28: 0 | D28: =B28+C28 -> 3
A29: Ikke turneringsaktive hold (6 år og ældre) | B29: 2 | C29: 0 | D29: =B29+C29 -> 2
A30: 0-5 års hold | B30: 1 | C30: 0 | D30: =B30+C30 -> 1
